{ "currentVersion": 10.71, "serviceDescription": "
Image was obtained from the USGS EarthExplorer database online. Each 2012 image was orthorectified and georeferenced prior to our analysis. The 2012 images were used for reference images and coordinate systems for the unreferenced images we used (from 1938 and 2012). For all photos (1938, 1978, 2012) we manually identified vegetation to three classes (grass, shrub, tree) at >350 random points across the Dangermond Preserve.<\/SPAN><\/P> Year: 2012<\/SPAN><\/P> Flight: 3412028<\/SPAN><\/P> Image: NE-10-1-20120519<\/SPAN><\/P> \"This data set contains imagery from the National Agriculture Imagery Program (NAIP). NAIP acquires digital ortho imagery during the agricultural growing seasons in the continental U.S.. A primary goal of the NAIP program is to enable availability of of ortho imagery within one year of acquisition. NAIP provides four main products: 1 meter ground sample distance (GSD) ortho imagery rectified to a horizontal accuracy of within +/- 5 meters of reference digital ortho quarter quads (DOQQ's) from the National Digital Ortho Program (NDOP); 2 meter GSD ortho imagery rectified to within +/- 10 meters of reference DOQQs; 1 meter GSD ortho imagery rectified to within +/- 6 meters to true ground; and, 2 meter GSD ortho imagery rectified to within +/- 10 meters to true ground. The tiling format of NAIP imagery is based on a 3.75' x 3.75' quarter quadrangle with a 300 meter buffer on all four sides. NAIP quarter quads are formatted to the UTM coordinate system using NAD83. NAIP imagery may contain as much as 10% cloud cover per tile.\"<\/SPAN><\/P><\/DIV><\/DIV><\/DIV>",
"name": "JLDP/m_3412028_ne_10_1_20120519",
"description": " Image was obtained from the USGS EarthExplorer database online. Each 2012 image was orthorectified and georeferenced prior to our analysis. The 2012 images were used for reference images and coordinate systems for the unreferenced images we used (from 1938 and 2012). For all photos (1938, 1978, 2012) we manually identified vegetation to three classes (grass, shrub, tree) at >350 random points across the Dangermond Preserve.<\/SPAN><\/P> Year: 2012<\/SPAN><\/P> Flight: 3412028<\/SPAN><\/P> Image: NE-10-1-20120519<\/SPAN><\/P> \"This data set contains imagery from the National Agriculture Imagery Program (NAIP). NAIP acquires digital ortho imagery during the agricultural growing seasons in the continental U.S.. A primary goal of the NAIP program is to enable availability of of ortho imagery within one year of acquisition. NAIP provides four main products: 1 meter ground sample distance (GSD) ortho imagery rectified to a horizontal accuracy of within +/- 5 meters of reference digital ortho quarter quads (DOQQ's) from the National Digital Ortho Program (NDOP); 2 meter GSD ortho imagery rectified to within +/- 10 meters of reference DOQQs; 1 meter GSD ortho imagery rectified to within +/- 6 meters to true ground; and, 2 meter GSD ortho imagery rectified to within +/- 10 meters to true ground. The tiling format of NAIP imagery is based on a 3.75' x 3.75' quarter quadrangle with a 300 meter buffer on all four sides. NAIP quarter quads are formatted to the UTM coordinate system using NAD83. NAIP imagery may contain as much as 10% cloud cover per tile.\"<\/SPAN><\/P><\/DIV><\/DIV><\/DIV>",
"extent": {
"xmin": 723140,
"ymin": 3826910,
"xmax": 729680,
"ymax": 3834620,
"spatialReference": {
"wkid": 26910,
"latestWkid": 26910
}
},
"initialExtent": {
"xmin": 723140,
"ymin": 3826910,
"xmax": 729680,
"ymax": 3834620,
"spatialReference": {
"wkid": 26910,
"latestWkid": 26910
}
},
"fullExtent": {
"xmin": 723140,
"ymin": 3826910,
"xmax": 729680,
"ymax": 3834620,
"spatialReference": {
"wkid": 26910,
"latestWkid": 26910
}
},
"pixelSizeX": 1,
"pixelSizeY": 1,
"bandCount": 4,
"pixelType": "U8",
"minPixelSize": 0,
"maxPixelSize": 0,
"copyrightText": "Image Source: USGS EarthExplorer, Project Name: 201204_CALIFORNIA_NAIP_1X0000M_CNIR (NAIP)\nhttps://earthexplorer.usgs.gov/",
"serviceDataType": "esriImageServiceDataTypeGeneric",
"minValues": [
13,
15,
41,
8
],
"maxValues": [
253,
254,
247,
240
],
"meanValues": [
102.42002695177239,
110.25208494468838,
100.28814123997985,
140.68826584482602
],
"stdvValues": [
33.74182149820183,
26.16372002293681,
18.41539393086984,
26.82132711693204
],
"objectIdField": "",
"fields": [],
"capabilities": "Image,Metadata,Mensuration",
"defaultMosaicMethod": "Center",
"allowedMosaicMethods": "",
"sortField": "",
"sortValue": null,
"mosaicOperator": "First",
"defaultCompressionQuality": 75,
"defaultResamplingMethod": "Bilinear",
"maxImageHeight": 4100,
"maxImageWidth": 15000,
"allowRasterFunction": true,
"rasterFunctionInfos": [
{
"name": "None",
"description": "",
"help": ""
}
],
"rasterTypeInfos": [
{
"name": "Raster Dataset",
"description": "Supports all ArcGIS Raster Datasets",
"help": ""
}
],
"mensurationCapabilities": "Basic",
"hasHistograms": true,
"hasColormap": false,
"hasRasterAttributeTable": false,
"minScale": 0,
"maxScale": 0,
"exportTilesAllowed": false,
"hasMultidimensions": false,
"supportsStatistics": false,
"supportsAdvancedQueries": false,
"editFieldsInfo": null,
"ownershipBasedAccessControlForRasters": null,
"allowComputeTiePoints": false,
"useStandardizedQueries": true,
"advancedQueryCapabilities": {
"useStandardizedQueries": true,
"supportsStatistics": false,
"supportsOrderBy": false,
"supportsDistinct": false,
"supportsPagination": false
},
"spatialReference": {
"wkid": 26910,
"latestWkid": 26910
}
}