{ "currentVersion": 10.71, "serviceDescription": "
Image was obtained from the UCSB Library Frame Finder Online without any spatial reference. Each photo we used was manually georeferenced against a 2012 image; all images were 2nd order transformed and within 80 RMS total error. Once coordinates were established we manually identified vegetation to three classes (grass, shrub, tree) at >350 random points across the Dangermond Preserve.<\/SPAN><\/P> Year: 1978<\/SPAN><\/P> Flight: USDA-40-06083<\/SPAN><\/P> Image: 178-48<\/SPAN><\/P><\/DIV><\/DIV><\/DIV>",
"name": "JLDP/usda_40_06083_178_48",
"description": " Image was obtained from the UCSB Library Frame Finder Online without any spatial reference. Each photo we used was manually georeferenced against a 2012 image; all images were 2nd order transformed and within 80 RMS total error. Once coordinates were established we manually identified vegetation to three classes (grass, shrub, tree) at >350 random points across the Dangermond Preserve.<\/SPAN><\/P> Year: 1978<\/SPAN><\/P> Flight: USDA-40-06083<\/SPAN><\/P> Image: 178-48<\/SPAN><\/P><\/DIV><\/DIV><\/DIV>",
"extent": {
"xmin": 730183.9495445008,
"ymin": 3811052.776806809,
"xmax": 740681.8636813858,
"ymax": 3820885.4871836677,
"spatialReference": {
"wkid": 26910,
"latestWkid": 26910
}
},
"initialExtent": {
"xmin": 730183.9495445008,
"ymin": 3811052.776806809,
"xmax": 740681.8636813858,
"ymax": 3820885.4871836677,
"spatialReference": {
"wkid": 26910,
"latestWkid": 26910
}
},
"fullExtent": {
"xmin": 730183.9495445008,
"ymin": 3811052.776806809,
"xmax": 740681.8636813858,
"ymax": 3820885.4871836677,
"spatialReference": {
"wkid": 26910,
"latestWkid": 26910
}
},
"pixelSizeX": 1.9347427454635029,
"pixelSizeY": 1.8252664519878803,
"bandCount": 3,
"pixelType": "U8",
"minPixelSize": 0,
"maxPixelSize": 0,
"copyrightText": "Georeferencing: Meghan Bowen\nmbowen@bren.ucsb.edu\n\nImage Source: UCSB Frame Finder, Flight USDA-40-06083\nhttp://mil.library.ucsb.edu/ap_indexes/FrameFinder/",
"serviceDataType": "esriImageServiceDataTypeRGB",
"minValues": [
33,
32,
10
],
"maxValues": [
255,
255,
255
],
"meanValues": [
107.71698227654991,
120.4933561095841,
102.99573412286381
],
"stdvValues": [
41.66939516492953,
41.99301537873971,
62.08623439829711
],
"objectIdField": "",
"fields": [],
"capabilities": "Image,Metadata,Mensuration",
"defaultMosaicMethod": "Center",
"allowedMosaicMethods": "",
"sortField": "",
"sortValue": null,
"mosaicOperator": "First",
"defaultCompressionQuality": 75,
"defaultResamplingMethod": "Bilinear",
"maxImageHeight": 4100,
"maxImageWidth": 15000,
"allowRasterFunction": true,
"rasterFunctionInfos": [
{
"name": "None",
"description": "",
"help": ""
}
],
"rasterTypeInfos": [
{
"name": "Raster Dataset",
"description": "Supports all ArcGIS Raster Datasets",
"help": ""
}
],
"mensurationCapabilities": "Basic",
"hasHistograms": true,
"hasColormap": false,
"hasRasterAttributeTable": false,
"minScale": 0,
"maxScale": 0,
"exportTilesAllowed": false,
"hasMultidimensions": false,
"supportsStatistics": false,
"supportsAdvancedQueries": false,
"editFieldsInfo": null,
"ownershipBasedAccessControlForRasters": null,
"allowComputeTiePoints": false,
"useStandardizedQueries": true,
"advancedQueryCapabilities": {
"useStandardizedQueries": true,
"supportsStatistics": false,
"supportsOrderBy": false,
"supportsDistinct": false,
"supportsPagination": false
},
"spatialReference": {
"wkid": 26910,
"latestWkid": 26910
}
}