{ "currentVersion": 10.71, "serviceDescription": "
Image was obtained from the UCSB Library Frame Finder Online without any spatial reference. Each photo we used was manually georeferenced against a 2012 image; all images were 2nd order transformed and within 80 RMS total error. Once coordinates were established we manually identified vegetation to three classes (grass, shrub, tree) at >350 random points across the Dangermond Preserve.<\/SPAN><\/P> Year: 1978<\/SPAN><\/P> Flight: USDA-40-06083<\/SPAN><\/P> Image: 178-52<\/SPAN><\/P><\/DIV><\/DIV><\/DIV>",
"name": "JLDP/usda_40_06083_178_52",
"description": " Image was obtained from the UCSB Library Frame Finder Online without any spatial reference. Each photo we used was manually georeferenced against a 2012 image; all images were 2nd order transformed and within 80 RMS total error. Once coordinates were established we manually identified vegetation to three classes (grass, shrub, tree) at >350 random points across the Dangermond Preserve.<\/SPAN><\/P> Year: 1978<\/SPAN><\/P> Flight: USDA-40-06083<\/SPAN><\/P> Image: 178-52<\/SPAN><\/P><\/DIV><\/DIV><\/DIV>",
"extent": {
"xmin": 723757.7129191579,
"ymin": 3816797.3939330187,
"xmax": 733763.3221694124,
"ymax": 3826722.468082472,
"spatialReference": {
"wkid": 26910,
"latestWkid": 26910
}
},
"initialExtent": {
"xmin": 723757.7129191579,
"ymin": 3816797.3939330187,
"xmax": 733763.3221694124,
"ymax": 3826722.468082472,
"spatialReference": {
"wkid": 26910,
"latestWkid": 26910
}
},
"fullExtent": {
"xmin": 723757.7129191579,
"ymin": 3816797.3939330187,
"xmax": 733763.3221694124,
"ymax": 3826722.468082472,
"spatialReference": {
"wkid": 26910,
"latestWkid": 26910
}
},
"pixelSizeX": 1.8298480706390752,
"pixelSizeY": 1.8315324136286302,
"bandCount": 3,
"pixelType": "U8",
"minPixelSize": 0,
"maxPixelSize": 0,
"copyrightText": "Georeferencing: Meghan Bowen\nmbowen@bren.ucsb.edu\n\nImage Source: UCSB Frame Finder, Flight USDA-40-06083\nhttp://mil.library.ucsb.edu/ap_indexes/FrameFinder/",
"serviceDataType": "esriImageServiceDataTypeRGB",
"minValues": [
0,
0,
0
],
"maxValues": [
255,
255,
255
],
"meanValues": [
77.31443957583474,
94.25148178811635,
91.5131520633799
],
"stdvValues": [
49.894985089070374,
48.72030890459223,
64.84262096626787
],
"objectIdField": "",
"fields": [],
"capabilities": "Image,Metadata,Mensuration",
"defaultMosaicMethod": "Center",
"allowedMosaicMethods": "",
"sortField": "",
"sortValue": null,
"mosaicOperator": "First",
"defaultCompressionQuality": 75,
"defaultResamplingMethod": "Bilinear",
"maxImageHeight": 4100,
"maxImageWidth": 15000,
"allowRasterFunction": true,
"rasterFunctionInfos": [
{
"name": "None",
"description": "",
"help": ""
}
],
"rasterTypeInfos": [
{
"name": "Raster Dataset",
"description": "Supports all ArcGIS Raster Datasets",
"help": ""
}
],
"mensurationCapabilities": "Basic",
"hasHistograms": true,
"hasColormap": false,
"hasRasterAttributeTable": false,
"minScale": 0,
"maxScale": 0,
"exportTilesAllowed": false,
"hasMultidimensions": false,
"supportsStatistics": false,
"supportsAdvancedQueries": false,
"editFieldsInfo": null,
"ownershipBasedAccessControlForRasters": null,
"allowComputeTiePoints": false,
"useStandardizedQueries": true,
"advancedQueryCapabilities": {
"useStandardizedQueries": true,
"supportsStatistics": false,
"supportsOrderBy": false,
"supportsDistinct": false,
"supportsPagination": false
},
"spatialReference": {
"wkid": 26910,
"latestWkid": 26910
}
}