View In:
ArcGIS JavaScript
ArcGIS Online Map Viewer
ArcGIS Earth
ArcMap
View Footprint In:
ArcGIS Online Map Viewer
Service Description: a home range level habitat use layer. It should essentially be used to understand where suitable habitat exists for lions to establish home ranges. This is on a 1 x 1 km2 scale.
Name: MtnLions/SAM_Dellinger_Home_range_level_habitat_use_layer
Description: a home range level habitat use layer. It should essentially be used to understand where suitable habitat exists for lions to establish home ranges. This is on a 1 x 1 km2 scale.
Single Fused Map Cache: false
Extent:
XMin: 379978.34530155984
YMin: 3614897.927892063
XMax: 1318479.3133645603
YMax: 4654376.848215006
Spatial Reference: 32610
(32610)
Initial Extent:
XMin: 379978.34530155984
YMin: 3614897.927892063
XMax: 1318479.3133645603
YMax: 4654376.848215006
Spatial Reference: 32610
(32610)
Full Extent:
XMin: 379978.34530155984
YMin: 3614897.927892063
XMax: 1318479.3133645603
YMax: 4654376.848215006
Spatial Reference: 32610
(32610)
Pixel Size X: 989.979924117089
Pixel Size Y: 989.979924117089
Band Count: 1
Pixel Type: F32
RasterFunction Infos: {"rasterFunctionInfos": [{
"name": "None",
"description": "",
"help": ""
}]}
Mensuration Capabilities: Basic
Has Histograms: true
Has Colormap: false
Has Multi Dimensions : false
Rendering Rule:
Min Scale: 0
Max Scale: 0
Copyright Text:
Service Data Type: esriImageServiceDataTypeGeneric
Min Values: 0
Max Values: 0.9985311031341553
Mean Values: 0.06762382304739266
Standard Deviation Values: 0.09949826080773021
Object ID Field:
Fields:
None
Default Mosaic Method: Center
Allowed Mosaic Methods:
SortField:
SortValue: null
Mosaic Operator: First
Default Compression Quality: 75
Default Resampling Method: Bilinear
Max Record Count: null
Max Image Height: 4100
Max Image Width: 15000
Max Download Image Count: null
Max Mosaic Image Count: null
Allow Raster Function: true
Allow Compute TiePoints: false
Supports Statistics: false
Supports Advanced Queries: false
Use StandardizedQueries: true
Raster Type Infos:
Name: Raster Dataset
Description: Supports all ArcGIS Raster Datasets
Help:
Has Raster Attribute Table: false
Edit Fields Info: null
Ownership Based AccessControl For Rasters: null
Child Resources:
Info
Histograms
Key Properties
Legend
MultiDimensionalInfo
rasterFunctionInfos
Supported Operations:
Export Image
Identify
Measure
Compute Histograms
Compute Statistics Histograms
Get Samples
Compute Class Statistics
Query Boundary
Compute Pixel Location