View In:
ArcGIS JavaScript
ArcGIS Online Map Viewer
ArcGIS Earth
ArcMap
View Footprint In:
ArcGIS Online Map Viewer
Service Description: Image was obtained from the UCSB Library Frame Finder Online without any spatial reference. Each photo we used was manually georeferenced against a 2012 image; all images were 2nd order transformed and within 80 RMS total error. Once coordinates were established we manually identified vegetation to three classes (grass, shrub, tree) at >350 random points across the Dangermond Preserve.
Year: 1978
Flight: USDA-40-06083
Image: 178-48
Name: JLDP/usda_40_06083_178_48
Description: Image was obtained from the UCSB Library Frame Finder Online without any spatial reference. Each photo we used was manually georeferenced against a 2012 image; all images were 2nd order transformed and within 80 RMS total error. Once coordinates were established we manually identified vegetation to three classes (grass, shrub, tree) at >350 random points across the Dangermond Preserve.
Year: 1978
Flight: USDA-40-06083
Image: 178-48
Single Fused Map Cache: false
Extent:
XMin: 730183.9495445008
YMin: 3811052.776806809
XMax: 740681.8636813858
YMax: 3820885.4871836677
Spatial Reference: 26910
(26910)
Initial Extent:
XMin: 730183.9495445008
YMin: 3811052.776806809
XMax: 740681.8636813858
YMax: 3820885.4871836677
Spatial Reference: 26910
(26910)
Full Extent:
XMin: 730183.9495445008
YMin: 3811052.776806809
XMax: 740681.8636813858
YMax: 3820885.4871836677
Spatial Reference: 26910
(26910)
Pixel Size X: 1.9347427454635029
Pixel Size Y: 1.8252664519878803
Band Count: 3
Pixel Type: U8
RasterFunction Infos: {"rasterFunctionInfos": [{
"name": "None",
"description": "",
"help": ""
}]}
Mensuration Capabilities: Basic
Has Histograms: true
Has Colormap: false
Has Multi Dimensions : false
Rendering Rule:
Min Scale: 0
Max Scale: 0
Copyright Text: Georeferencing: Meghan Bowen
mbowen@bren.ucsb.edu
Image Source: UCSB Frame Finder, Flight USDA-40-06083
http://mil.library.ucsb.edu/ap_indexes/FrameFinder/
Service Data Type: esriImageServiceDataTypeRGB
Min Values: 33, 32, 10
Max Values: 255, 255, 255
Mean Values: 107.71698227654991, 120.4933561095841, 102.99573412286381
Standard Deviation Values: 41.66939516492953, 41.99301537873971, 62.08623439829711
Object ID Field:
Fields:
None
Default Mosaic Method: Center
Allowed Mosaic Methods:
SortField:
SortValue: null
Mosaic Operator: First
Default Compression Quality: 75
Default Resampling Method: Bilinear
Max Record Count: null
Max Image Height: 4100
Max Image Width: 15000
Max Download Image Count: null
Max Mosaic Image Count: null
Allow Raster Function: true
Allow Compute TiePoints: false
Supports Statistics: false
Supports Advanced Queries: false
Use StandardizedQueries: true
Raster Type Infos:
Name: Raster Dataset
Description: Supports all ArcGIS Raster Datasets
Help:
Has Raster Attribute Table: false
Edit Fields Info: null
Ownership Based AccessControl For Rasters: null
Child Resources:
Info
Histograms
Key Properties
Legend
MultiDimensionalInfo
rasterFunctionInfos
Supported Operations:
Export Image
Identify
Measure
Compute Histograms
Compute Statistics Histograms
Get Samples
Compute Class Statistics
Query Boundary
Compute Pixel Location