View In:
ArcGIS JavaScript
ArcGIS Online Map Viewer
ArcGIS Earth
ArcMap
View Footprint In:
ArcGIS Online Map Viewer
Service Description: Image was obtained from the UCSB Library Frame Finder Online without any spatial reference. Each photo we used was manually georeferenced against a 2012 image; all images were 2nd order transformed and within 80 RMS total error. Once coordinates were established we manually identified vegetation to three classes (grass, shrub, tree) at >350 random points across the Dangermond Preserve.
Year: 1978
Flight: USDA-40-06083
Image: 178-52
Name: JLDP/usda_40_06083_178_52
Description: Image was obtained from the UCSB Library Frame Finder Online without any spatial reference. Each photo we used was manually georeferenced against a 2012 image; all images were 2nd order transformed and within 80 RMS total error. Once coordinates were established we manually identified vegetation to three classes (grass, shrub, tree) at >350 random points across the Dangermond Preserve.
Year: 1978
Flight: USDA-40-06083
Image: 178-52
Single Fused Map Cache: false
Extent:
XMin: 723757.7129191579
YMin: 3816797.3939330187
XMax: 733763.3221694124
YMax: 3826722.468082472
Spatial Reference: 26910
(26910)
Initial Extent:
XMin: 723757.7129191579
YMin: 3816797.3939330187
XMax: 733763.3221694124
YMax: 3826722.468082472
Spatial Reference: 26910
(26910)
Full Extent:
XMin: 723757.7129191579
YMin: 3816797.3939330187
XMax: 733763.3221694124
YMax: 3826722.468082472
Spatial Reference: 26910
(26910)
Pixel Size X: 1.8298480706390752
Pixel Size Y: 1.8315324136286302
Band Count: 3
Pixel Type: U8
RasterFunction Infos: {"rasterFunctionInfos": [{
"name": "None",
"description": "",
"help": ""
}]}
Mensuration Capabilities: Basic
Has Histograms: true
Has Colormap: false
Has Multi Dimensions : false
Rendering Rule:
Min Scale: 0
Max Scale: 0
Copyright Text: Georeferencing: Meghan Bowen
mbowen@bren.ucsb.edu
Image Source: UCSB Frame Finder, Flight USDA-40-06083
http://mil.library.ucsb.edu/ap_indexes/FrameFinder/
Service Data Type: esriImageServiceDataTypeRGB
Min Values: 0, 0, 0
Max Values: 255, 255, 255
Mean Values: 77.31443957583474, 94.25148178811635, 91.5131520633799
Standard Deviation Values: 49.894985089070374, 48.72030890459223, 64.84262096626787
Object ID Field:
Fields:
None
Default Mosaic Method: Center
Allowed Mosaic Methods:
SortField:
SortValue: null
Mosaic Operator: First
Default Compression Quality: 75
Default Resampling Method: Bilinear
Max Record Count: null
Max Image Height: 4100
Max Image Width: 15000
Max Download Image Count: null
Max Mosaic Image Count: null
Allow Raster Function: true
Allow Compute TiePoints: false
Supports Statistics: false
Supports Advanced Queries: false
Use StandardizedQueries: true
Raster Type Infos:
Name: Raster Dataset
Description: Supports all ArcGIS Raster Datasets
Help:
Has Raster Attribute Table: false
Edit Fields Info: null
Ownership Based AccessControl For Rasters: null
Child Resources:
Info
Histograms
Key Properties
Legend
MultiDimensionalInfo
rasterFunctionInfos
Supported Operations:
Export Image
Identify
Measure
Compute Histograms
Compute Statistics Histograms
Get Samples
Compute Class Statistics
Query Boundary
Compute Pixel Location